BEGIN:VCALENDAR
VERSION:2.0
PRODID:-//KEVIN RANKIN: DRUMMER | A FLOCK OF SEAGULLS - ECPv6.15.20//NONSGML v1.0//EN
CALSCALE:GREGORIAN
METHOD:PUBLISH
X-WR-CALNAME:KEVIN RANKIN: DRUMMER | A FLOCK OF SEAGULLS
X-ORIGINAL-URL:https://www.kevinrankin.com
X-WR-CALDESC:Events for KEVIN RANKIN: DRUMMER | A FLOCK OF SEAGULLS
REFRESH-INTERVAL;VALUE=DURATION:PT1H
X-Robots-Tag:noindex
X-PUBLISHED-TTL:PT1H
BEGIN:VTIMEZONE
TZID:America/Los_Angeles
BEGIN:DAYLIGHT
TZOFFSETFROM:-0800
TZOFFSETTO:-0700
TZNAME:PDT
DTSTART:20250309T100000
END:DAYLIGHT
BEGIN:STANDARD
TZOFFSETFROM:-0700
TZOFFSETTO:-0800
TZNAME:PST
DTSTART:20251102T090000
END:STANDARD
BEGIN:DAYLIGHT
TZOFFSETFROM:-0800
TZOFFSETTO:-0700
TZNAME:PDT
DTSTART:20260308T100000
END:DAYLIGHT
BEGIN:STANDARD
TZOFFSETFROM:-0700
TZOFFSETTO:-0800
TZNAME:PST
DTSTART:20261101T090000
END:STANDARD
BEGIN:DAYLIGHT
TZOFFSETFROM:-0800
TZOFFSETTO:-0700
TZNAME:PDT
DTSTART:20270314T100000
END:DAYLIGHT
BEGIN:STANDARD
TZOFFSETFROM:-0700
TZOFFSETTO:-0800
TZNAME:PST
DTSTART:20271107T090000
END:STANDARD
END:VTIMEZONE
BEGIN:VEVENT
DTSTART;VALUE=DATE:20260520
DTEND;VALUE=DATE:20260521
DTSTAMP:20260421T084957
CREATED:20260403T163909Z
LAST-MODIFIED:20260403T165011Z
UID:5226-1779235200-1779321599@www.kevinrankin.com
SUMMARY:A Flock of Seagulls: Lexington\, KY
DESCRIPTION:
URL:https://www.kevinrankin.com/event/a-flock-of-seagulls-totally-tubular-festival-lexington-ky/
LOCATION:DC
CATEGORIES:LIVE SHOWS
END:VEVENT
BEGIN:VEVENT
DTSTART;VALUE=DATE:20260522
DTEND;VALUE=DATE:20260523
DTSTAMP:20260421T084957
CREATED:20251211T030849Z
LAST-MODIFIED:20251213T191533Z
UID:4917-1779408000-1779494399@www.kevinrankin.com
SUMMARY:A Flock of Seagulls: Pelham\, TN
DESCRIPTION:?With Strangelove Depeche Mode Experience
URL:https://www.kevinrankin.com/event/a-flock-of-seagulls-pelham-tn/
LOCATION:The Caverns\, Pelham\, TN\, United States
CATEGORIES:LIVE SHOWS
END:VEVENT
BEGIN:VEVENT
DTSTART;VALUE=DATE:20260523
DTEND;VALUE=DATE:20260524
DTSTAMP:20260421T084957
CREATED:20260116T042406Z
LAST-MODIFIED:20260210T164110Z
UID:5060-1779494400-1779580799@www.kevinrankin.com
SUMMARY:A Flock of Seagulls: Myrtle Beach\, South Carolina
DESCRIPTION:
URL:https://www.kevinrankin.com/event/a-flock-of-seagulls-south-carolina/
LOCATION:DC
CATEGORIES:LIVE SHOWS
END:VEVENT
BEGIN:VEVENT
DTSTART;VALUE=DATE:20260612
DTEND;VALUE=DATE:20260613
DTSTAMP:20260421T084957
CREATED:20251213T224945Z
LAST-MODIFIED:20260401T175903Z
UID:5035-1781222400-1781308799@www.kevinrankin.com
SUMMARY:A Flock of Seagulls: Wadsworth\, OH
DESCRIPTION:
URL:https://www.kevinrankin.com/event/a-flock-of-seagulls-wadsworth-oh/
LOCATION:DC
CATEGORIES:LIVE SHOWS
END:VEVENT
BEGIN:VEVENT
DTSTART;VALUE=DATE:20260613
DTEND;VALUE=DATE:20260614
DTSTAMP:20260421T084957
CREATED:20260414T080100Z
LAST-MODIFIED:20260414T080100Z
UID:5238-1781308800-1781395199@www.kevinrankin.com
SUMMARY:A Flock of Seagulls: Detroit\, MI
DESCRIPTION:
URL:https://www.kevinrankin.com/event/a-flock-of-seagulls-detroit-mi-3/
LOCATION:DC
CATEGORIES:LIVE SHOWS
END:VEVENT
BEGIN:VEVENT
DTSTART;VALUE=DATE:20260710
DTEND;VALUE=DATE:20260711
DTSTAMP:20260421T084957
CREATED:20260126T214406Z
LAST-MODIFIED:20260126T214406Z
UID:5064-1783641600-1783727999@www.kevinrankin.com
SUMMARY:A Flock of Seagulls: Philadelphia\, PA
DESCRIPTION:I Love the 80s
URL:https://www.kevinrankin.com/event/a-flock-of-seagulls-philadelphia-pa-4/
LOCATION:DC
CATEGORIES:LIVE SHOWS
END:VEVENT
BEGIN:VEVENT
DTSTART;VALUE=DATE:20260711
DTEND;VALUE=DATE:20260712
DTSTAMP:20260421T084957
CREATED:20260224T231448Z
LAST-MODIFIED:20260224T231448Z
UID:5156-1783728000-1783814399@www.kevinrankin.com
SUMMARY:A Flock of Seagulls: Stroudsberg\, PA
DESCRIPTION:
URL:https://www.kevinrankin.com/event/a-flock-of-seagulls-stroudsberg-pa/
LOCATION:DC
CATEGORIES:LIVE SHOWS
END:VEVENT
BEGIN:VEVENT
DTSTART;VALUE=DATE:20260719
DTEND;VALUE=DATE:20260720
DTSTAMP:20260421T084957
CREATED:20260420T172613Z
LAST-MODIFIED:20260420T172613Z
UID:5184-1784419200-1784505599@www.kevinrankin.com
SUMMARY:A Flock of Seagulls: Denver\, CO
DESCRIPTION:Totally Tubular Tour \nThomas Dolby & The Lost Toy People \nA Flock of Seagulls \nThe Motels \nThe Producers \nAnimotion \nThe Escape Club \nTommy Tutone
URL:https://www.kevinrankin.com/event/a-flock-of-seagulls-denver-co-2/
LOCATION:Mission Ballroom\, Denver\, Colorado
CATEGORIES:LIVE SHOWS
END:VEVENT
BEGIN:VEVENT
DTSTART;VALUE=DATE:20260722
DTEND;VALUE=DATE:20260723
DTSTAMP:20260421T084957
CREATED:20260420T171711Z
LAST-MODIFIED:20260420T173201Z
UID:5192-1784678400-1784764799@www.kevinrankin.com
SUMMARY:A Flock of Seagulls: San Francisco\, CA
DESCRIPTION:Totally Tubular Tour \nThomas Dolby & The Lost Toy People \nA Flock of Seagulls \nThe Motels \nThe Producers \nAnimotion \nThe Escape Club \nTommy Tutone
URL:https://www.kevinrankin.com/event/a-flock-of-seagulls-san-francisco-ca-2/
LOCATION:The Castro\, San Francisco\, CA\, United States
CATEGORIES:LIVE SHOWS
END:VEVENT
BEGIN:VEVENT
DTSTART;VALUE=DATE:20260723
DTEND;VALUE=DATE:20260724
DTSTAMP:20260421T084957
CREATED:20260420T172753Z
LAST-MODIFIED:20260420T172753Z
UID:5187-1784764800-1784851199@www.kevinrankin.com
SUMMARY:A Flock of Seagulls: Anaheim\, CA
DESCRIPTION:Totally Tubular Tour \nThomas Dolby & The Lost Toy People \nA Flock of Seagulls \nThe Motels \nThe Producers \nAnimotion \nThe Escape Club \nTommy Tutone
URL:https://www.kevinrankin.com/event/a-flock-of-seagulls-anaheim-ca-3/
LOCATION:House of Blues Anaheim\, Anaheim\, CA\, United States
CATEGORIES:LIVE SHOWS
END:VEVENT
BEGIN:VEVENT
DTSTART;VALUE=DATE:20260724
DTEND;VALUE=DATE:20260725
DTSTAMP:20260421T084957
CREATED:20260420T172951Z
LAST-MODIFIED:20260420T172951Z
UID:5189-1784851200-1784937599@www.kevinrankin.com
SUMMARY:A Flock of Seagulls: Hollywood\, CA
DESCRIPTION:Totally Tubular Tour \nThomas Dolby & The Lost Toy People \nA Flock of Seagulls \nThe Motels \nThe Producers \nAnimotion \nThe Escape Club \nTommy Tutone
URL:https://www.kevinrankin.com/event/a-flock-of-seagulls-hollywood-ca/
LOCATION:Hollywood Palladium
CATEGORIES:LIVE SHOWS
END:VEVENT
BEGIN:VEVENT
DTSTART;VALUE=DATE:20260725
DTEND;VALUE=DATE:20260726
DTSTAMP:20260421T084957
CREATED:20260420T171530Z
LAST-MODIFIED:20260420T171530Z
UID:5256-1784937600-1785023999@www.kevinrankin.com
SUMMARY:A Flock of Seagulls - Totally Tubular Festival: Las Vegas\, NV
DESCRIPTION:Totally Tubular Tour \nThomas Dolby & The Lost Toy People \nA Flock of Seagulls \nThe Motels \nThe Producers \nAnimotion \nThe Escape Club \nTommy Tutone
URL:https://www.kevinrankin.com/event/a-flock-of-seagulls-totally-tubular-festival-las-vegas-nv/
LOCATION:SHARA CASINO POOL\, Las Vegas\, NV\, United States
CATEGORIES:LIVE SHOWS
END:VEVENT
BEGIN:VEVENT
DTSTART;VALUE=DATE:20260726
DTEND;VALUE=DATE:20260727
DTSTAMP:20260421T084957
CREATED:20260407T163229Z
LAST-MODIFIED:20260407T163229Z
UID:5249-1785024000-1785110399@www.kevinrankin.com
SUMMARY:A Flock of Seagulls: Salt Lake City
DESCRIPTION:Totally Tubular Tour \nThomas Dolby & The Lost Toy People \nA Flock of Seagulls \nThe Motels \nThe Producers \nAnimotion \nThe Escape Club \nTommy Tutone
URL:https://www.kevinrankin.com/event/a-flock-of-seagulls-salt-lake-city/
LOCATION:Red Butte Garden\, Salt Lake City\, UT\, United States
CATEGORIES:LIVE SHOWS
END:VEVENT
BEGIN:VEVENT
DTSTART;VALUE=DATE:20260807
DTEND;VALUE=DATE:20260808
DTSTAMP:20260421T084957
CREATED:20260420T173444Z
LAST-MODIFIED:20260420T173444Z
UID:5196-1786060800-1786147199@www.kevinrankin.com
SUMMARY:A Flock of Seagulls: Washington\, DC
DESCRIPTION:Totally Tubular Tour \nThomas Dolby & The Lost Toy People \nA Flock of Seagulls \nThe Motels \nThe Producers \nAnimotion \nThe Escape Club \nTommy Tutone
URL:https://www.kevinrankin.com/event/a-flock-of-seagulls-washington-dc/
LOCATION:Warner Theater\, Washington\, DC\, United States
CATEGORIES:LIVE SHOWS
END:VEVENT
BEGIN:VEVENT
DTSTART;VALUE=DATE:20260808
DTEND;VALUE=DATE:20260809
DTSTAMP:20260421T084957
CREATED:20260420T171912Z
LAST-MODIFIED:20260420T172332Z
UID:5199-1786147200-1786233599@www.kevinrankin.com
SUMMARY:A Flock of Seagulls: Atlantic City\, NJ
DESCRIPTION:Totally Tubular Tour \nThomas Dolby & The Lost Toy People \nA Flock of Seagulls \nThe Motels \nThe Producers \nAnimotion \nThe Escape Club \nTommy Tutone
URL:https://www.kevinrankin.com/event/a-flock-of-seagulls-atlantic-city-nj/
LOCATION:Hard Rock Live at Etess Arena\, Atlantic Coty\, NJ\, United States
CATEGORIES:LIVE SHOWS
END:VEVENT
BEGIN:VEVENT
DTSTART;VALUE=DATE:20260809
DTEND;VALUE=DATE:20260810
DTSTAMP:20260421T084957
CREATED:20260420T171848Z
LAST-MODIFIED:20260420T171848Z
UID:5202-1786233600-1786319999@www.kevinrankin.com
SUMMARY:A Flock of Seagulls: New York City\, NY
DESCRIPTION:Totally Tubular Tour \nThomas Dolby & The Lost Toy People \nA Flock of Seagulls \nThe Motels \nThe Producers \nAnimotion \nThe Escape Club \nTommy Tutone
URL:https://www.kevinrankin.com/event/a-flock-of-seagulls-new-york-city-ny-2/
LOCATION:Pier 17\, 89 South St\, New York City\, NY\, United States
CATEGORIES:LIVE SHOWS
END:VEVENT
BEGIN:VEVENT
DTSTART;VALUE=DATE:20260812
DTEND;VALUE=DATE:20260813
DTSTAMP:20260421T084957
CREATED:20260420T172128Z
LAST-MODIFIED:20260420T172128Z
UID:5205-1786492800-1786579199@www.kevinrankin.com
SUMMARY:A Flock of Seagulls: St Petersburg\, FL
DESCRIPTION:Totally Tubular Tour \nThomas Dolby & The Lost Toy People \nA Flock of Seagulls \nThe Motels \nThe Producers \nAnimotion \nThe Escape Club \nTommy Tutone
URL:https://www.kevinrankin.com/event/a-flock-of-seagulls-st-petersburg-fl-2/
LOCATION:Ferg’s\, St Petersburg\, FL\, United States
CATEGORIES:LIVE SHOWS
END:VEVENT
BEGIN:VEVENT
DTSTART;VALUE=DATE:20260814
DTEND;VALUE=DATE:20260815
DTSTAMP:20260421T084957
CREATED:20260324T181155Z
LAST-MODIFIED:20260324T181155Z
UID:5180-1786665600-1786751999@www.kevinrankin.com
SUMMARY:A Flock of Seagulls: Louisville\, KY
DESCRIPTION:Totally Tubular Tour \nThomas Dolby & The Lost Toy People \nA Flock of Seagulls \nThe Motels \nThe Producers \nAnimotion \nThe Escape Club \nTommy Tutone
URL:https://www.kevinrankin.com/event/a-flock-of-seagulls-louisville-ky/
LOCATION:Iroquouis Amphitheater\, Louisville\, Kentucky\, United States
CATEGORIES:LIVE SHOWS
END:VEVENT
BEGIN:VEVENT
DTSTART;VALUE=DATE:20260815
DTEND;VALUE=DATE:20260816
DTSTAMP:20260421T084957
CREATED:20260420T171641Z
LAST-MODIFIED:20260420T171641Z
UID:5208-1786752000-1786838399@www.kevinrankin.com
SUMMARY:A Flock of Seagulls: Harbor Heights\, OH
DESCRIPTION:Totally Tubular Tour \nThomas Dolby & The Lost Toy People \nA Flock of Seagulls \nThe Motels \nThe Producers \nAnimotion \nThe Escape Club \nTommy Tutone
URL:https://www.kevinrankin.com/event/a-flock-of-seagulls-harbor-heights-oh/
LOCATION:(DaytonRose Music Center @ The Heights
CATEGORIES:LIVE SHOWS
END:VEVENT
BEGIN:VEVENT
DTSTART;VALUE=DATE:20260816
DTEND;VALUE=DATE:20260817
DTSTAMP:20260421T084957
CREATED:20260403T164319Z
LAST-MODIFIED:20260403T164319Z
UID:5211-1786838400-1786924799@www.kevinrankin.com
SUMMARY:A Flock of Seagulls - Totally Tubular Festival: Aurora\, IL
DESCRIPTION:Totally Tubular Tour \nThomas Dolby & The Lost Toy People \nA Flock of Seagulls \nThe Motels \nThe Producers \nAnimotion \nThe Escape Club \nTommy Tutone
URL:https://www.kevinrankin.com/event/a-flock-of-seagulls-totally-tubular-festival-aurora-il/
LOCATION:RiverEdge Park Amphitheatre\, Aurora\, IL\, United States
CATEGORIES:LIVE SHOWS
END:VEVENT
BEGIN:VEVENT
DTSTART;VALUE=DATE:20260828
DTEND;VALUE=DATE:20260829
DTSTAMP:20260421T084957
CREATED:20260128T235313Z
LAST-MODIFIED:20260128T235313Z
UID:5077-1787875200-1787961599@www.kevinrankin.com
SUMMARY:A Flock of Seagulls: Mesa\, AZ
DESCRIPTION:I Love the 80s
URL:https://www.kevinrankin.com/event/a-flock-of-seagulls-mesa-az/
LOCATION:DC
CATEGORIES:LIVE SHOWS
END:VEVENT
BEGIN:VEVENT
DTSTART;VALUE=DATE:20260829
DTEND;VALUE=DATE:20260830
DTSTAMP:20260421T084957
CREATED:20260128T235415Z
LAST-MODIFIED:20260128T235415Z
UID:5080-1787961600-1788047999@www.kevinrankin.com
SUMMARY:A Flock of Seagulls: Tucson\, AZ
DESCRIPTION:I Love the 80s
URL:https://www.kevinrankin.com/event/a-flock-of-seagulls-tucson-az-2/
LOCATION:DC
CATEGORIES:LIVE SHOWS
END:VEVENT
BEGIN:VEVENT
DTSTART;VALUE=DATE:20260904
DTEND;VALUE=DATE:20260905
DTSTAMP:20260421T084957
CREATED:20260403T174947Z
LAST-MODIFIED:20260403T174947Z
UID:5151-1788480000-1788566399@www.kevinrankin.com
SUMMARY:A Flock of Seagulls: Reno\, NV
DESCRIPTION:
URL:https://www.kevinrankin.com/event/a-flock-of-seagulls-reno-nv-2/
LOCATION:Bartley-Ranch Hawkins Amphitheater\, Reno\, NV\, United States
CATEGORIES:LIVE SHOWS
END:VEVENT
BEGIN:VEVENT
DTSTART;VALUE=DATE:20260917
DTEND;VALUE=DATE:20260918
DTSTAMP:20260421T084957
CREATED:20251002T164225Z
LAST-MODIFIED:20251002T164225Z
UID:3619-1789603200-1789689599@www.kevinrankin.com
SUMMARY:A Flock of Seagulls: Lodi\, CA
DESCRIPTION:Lodi Grape Festival\nLodi\, CA
URL:https://www.kevinrankin.com/event/a-flock-of-seagulls-lodi-ca/
LOCATION:DC
CATEGORIES:LIVE SHOWS
END:VEVENT
BEGIN:VEVENT
DTSTART;VALUE=DATE:20260919
DTEND;VALUE=DATE:20260920
DTSTAMP:20260421T084957
CREATED:20260401T180027Z
LAST-MODIFIED:20260401T180027Z
UID:5220-1789776000-1789862399@www.kevinrankin.com
SUMMARY:A Flock of Seagulls: Napa\, CA
DESCRIPTION:
URL:https://www.kevinrankin.com/event/a-flock-of-seagulls-napa-ca-2/
LOCATION:DC
CATEGORIES:LIVE SHOWS
END:VEVENT
BEGIN:VEVENT
DTSTART;VALUE=DATE:20261002
DTEND;VALUE=DATE:20261003
DTSTAMP:20260421T084957
CREATED:20260402T221335Z
LAST-MODIFIED:20260403T175427Z
UID:5115-1790899200-1790985599@www.kevinrankin.com
SUMMARY:A Flock of Seagulls: Mexico City\, MX
DESCRIPTION:
URL:https://www.kevinrankin.com/event/a-flock-of-seagulls-mexico-city-mx/
LOCATION:La Maraka\, Mexico
CATEGORIES:LIVE SHOWS
END:VEVENT
BEGIN:VEVENT
DTSTART;VALUE=DATE:20261003
DTEND;VALUE=DATE:20261004
DTSTAMP:20260421T084957
CREATED:20260206T231505Z
LAST-MODIFIED:20260211T000304Z
UID:5119-1790985600-1791071999@www.kevinrankin.com
SUMMARY:A Flock of Seagulls: Bogota\, Colombia
DESCRIPTION:
URL:https://www.kevinrankin.com/event/a-flock-of-seagulls-bogota-colombia/
LOCATION:Astor Plaza\, Bogota\, Colombia
CATEGORIES:LIVE SHOWS
END:VEVENT
BEGIN:VEVENT
DTSTART;VALUE=DATE:20261003
DTEND;VALUE=DATE:20261004
DTSTAMP:20260421T084957
CREATED:20260206T231706Z
LAST-MODIFIED:20260403T175518Z
UID:5123-1790985600-1791071999@www.kevinrankin.com
SUMMARY:A Flock of Seagulls: Lima\, Peru
DESCRIPTION:
URL:https://www.kevinrankin.com/event/a-flock-of-seagulls-lima-peru/
LOCATION:Teatro Leguía\, Lima\, Peru
CATEGORIES:LIVE SHOWS
END:VEVENT
BEGIN:VEVENT
DTSTART;VALUE=DATE:20261007
DTEND;VALUE=DATE:20261008
DTSTAMP:20260421T084957
CREATED:20260206T232106Z
LAST-MODIFIED:20260403T175611Z
UID:5131-1791331200-1791417599@www.kevinrankin.com
SUMMARY:A Flock of Seagulls: São Paulo\, Brazil
DESCRIPTION:
URL:https://www.kevinrankin.com/event/a-flock-of-seagulls-sao-paulo-brazil/
LOCATION:Carioca Club\, Rua Cardeal Arcoverde\, 2883 - Pinheiros - São Paulo - SP - CEP 05407-004 - CNPJ 15.834.045/0001-39
CATEGORIES:LIVE SHOWS
END:VEVENT
BEGIN:VEVENT
DTSTART;VALUE=DATE:20261009
DTEND;VALUE=DATE:20261010
DTSTAMP:20260421T084957
CREATED:20260403T175743Z
LAST-MODIFIED:20260403T175743Z
UID:5244-1791504000-1791590399@www.kevinrankin.com
SUMMARY:A Flock of Seagulls: Buenos Aires\, Argentina
DESCRIPTION:
URL:https://www.kevinrankin.com/event/a-flock-of-seagulls-buenos-aires-argentina/
LOCATION:DC
CATEGORIES:LIVE SHOWS
END:VEVENT
END:VCALENDAR