BEGIN:VCALENDAR
VERSION:2.0
PRODID:-//KEVIN RANKIN: DRUMMER | A FLOCK OF SEAGULLS - ECPv6.15.20//NONSGML v1.0//EN
CALSCALE:GREGORIAN
METHOD:PUBLISH
X-WR-CALNAME:KEVIN RANKIN: DRUMMER | A FLOCK OF SEAGULLS
X-ORIGINAL-URL:https://www.kevinrankin.com
X-WR-CALDESC:Events for KEVIN RANKIN: DRUMMER | A FLOCK OF SEAGULLS
REFRESH-INTERVAL;VALUE=DURATION:PT1H
X-Robots-Tag:noindex
X-PUBLISHED-TTL:PT1H
BEGIN:VTIMEZONE
TZID:America/Los_Angeles
BEGIN:DAYLIGHT
TZOFFSETFROM:-0800
TZOFFSETTO:-0700
TZNAME:PDT
DTSTART:20240310T100000
END:DAYLIGHT
BEGIN:STANDARD
TZOFFSETFROM:-0700
TZOFFSETTO:-0800
TZNAME:PST
DTSTART:20241103T090000
END:STANDARD
BEGIN:DAYLIGHT
TZOFFSETFROM:-0800
TZOFFSETTO:-0700
TZNAME:PDT
DTSTART:20250309T100000
END:DAYLIGHT
BEGIN:STANDARD
TZOFFSETFROM:-0700
TZOFFSETTO:-0800
TZNAME:PST
DTSTART:20251102T090000
END:STANDARD
BEGIN:DAYLIGHT
TZOFFSETFROM:-0800
TZOFFSETTO:-0700
TZNAME:PDT
DTSTART:20260308T100000
END:DAYLIGHT
BEGIN:STANDARD
TZOFFSETFROM:-0700
TZOFFSETTO:-0800
TZNAME:PST
DTSTART:20261101T090000
END:STANDARD
END:VTIMEZONE
BEGIN:VEVENT
DTSTART;VALUE=DATE:20251231
DTEND;VALUE=DATE:20260101
DTSTAMP:20260422T145836
CREATED:20250804T183459Z
LAST-MODIFIED:20251214T230238Z
UID:3593-1767139200-1767225599@www.kevinrankin.com
SUMMARY:A Flock of Seagulls: Niagara Falls\, NY
DESCRIPTION:? \n\n\nSeneca Niagara Resort and Casino\nNiagara Falls\, NY \n\nA Flock Of Seagulls\nThomas Dolby\nThe Motels\nBow Wow Wow\nAnimotion (original members)
URL:https://www.kevinrankin.com/event/a-flock-of-seagulls-niagara-falls-ny/
LOCATION:Seneca Niagara Resort and Casino\, Niagara Falls\, NY\, NY\, United States
CATEGORIES:LIVE SHOWS
END:VEVENT
BEGIN:VEVENT
DTSTART;VALUE=DATE:20251229
DTEND;VALUE=DATE:20251230
DTSTAMP:20260422T145836
CREATED:20250804T183357Z
LAST-MODIFIED:20251211T004242Z
UID:3588-1766966400-1767052799@www.kevinrankin.com
SUMMARY:A Flock of Seagulls: New York City\, NY
DESCRIPTION:The Palladium Times Square\nNew York\, NY \n\nFlock Of Seagulls\nMen Without Hats\nThomas Dolby\nThe Motels\nBow Wow Wow\nTommy Tutone
URL:https://www.kevinrankin.com/event/a-flock-of-seagulls-new-york-city-ny/
LOCATION:Palladium Times Square\, 1515 Broadway\, New York City\, New York\, 90036
CATEGORIES:LIVE SHOWS
END:VEVENT
BEGIN:VEVENT
DTSTART;VALUE=DATE:20251228
DTEND;VALUE=DATE:20251229
DTSTAMP:20260422T145836
CREATED:20250710T214827Z
LAST-MODIFIED:20251214T230403Z
UID:3504-1766880000-1766966399@www.kevinrankin.com
SUMMARY:A Flock of Seagulls: Mashantucket\, CT
DESCRIPTION:Foxwoods Casino\nMashantucket\, Connecticut \n\nA Flock of Seagulls\nMen Without Hats\nThomas Dolby\nBow Wow Wow\nTommy Tutone
URL:https://www.kevinrankin.com/event/a-flock-of-seagulls-mashantucket-ct/
LOCATION:Foxwoods Casino\, Mashantucket\, CT\, United States
CATEGORIES:LIVE SHOWS
END:VEVENT
BEGIN:VEVENT
DTSTART;VALUE=DATE:20251227
DTEND;VALUE=DATE:20251228
DTSTAMP:20260422T145836
CREATED:20250712T213628Z
LAST-MODIFIED:20251214T230322Z
UID:3508-1766793600-1766879999@www.kevinrankin.com
SUMMARY:A Flock of Seagulls: Atlantic City\, NJ
DESCRIPTION:Ocean Casino Resort\n(Ovation Hall)\nAtlantic City\, NJ \n\nA Flock of Seagulls\nMen Without Hats\nThomas Dolby\nBow Wow Wow\nTommy Tutone
URL:https://www.kevinrankin.com/event/a-flock-of-seagulls-atlantic-city-nj-2/
LOCATION:Ocean Casino Resort\, Ovation Hall\, Atlantic City\, NJ\, United States
CATEGORIES:LIVE SHOWS
END:VEVENT
BEGIN:VEVENT
DTSTART;VALUE=DATE:20251213
DTEND;VALUE=DATE:20251214
DTSTAMP:20260422T145836
CREATED:20250718T214937Z
LAST-MODIFIED:20251009T194220Z
UID:3539-1765584000-1765670399@www.kevinrankin.com
SUMMARY:A Flock of Seagulls: Los Angeles\, CA
DESCRIPTION:
URL:https://www.kevinrankin.com/event/a-flock-of-seagulls-los-angeles-ca-2/
LOCATION:La Mirada Theater\, Los Angeles\, United States
CATEGORIES:LIVE SHOWS
END:VEVENT
BEGIN:VEVENT
DTSTART;VALUE=DATE:20251107
DTEND;VALUE=DATE:20251108
DTSTAMP:20260422T145836
CREATED:20250130T183924Z
LAST-MODIFIED:20251111T040410Z
UID:3290-1762473600-1762559999@www.kevinrankin.com
SUMMARY:A Flock of Seagulls: Columbus\, OH
DESCRIPTION:
URL:https://www.kevinrankin.com/event/a-flock-of-seagulls-columbus-oh/
LOCATION:King of Clubs
CATEGORIES:LIVE SHOWS
END:VEVENT
BEGIN:VEVENT
DTSTART;VALUE=DATE:20251101
DTEND;VALUE=DATE:20251102
DTSTAMP:20260422T145836
CREATED:20250814T145019Z
LAST-MODIFIED:20251009T194017Z
UID:3603-1761955200-1762041599@www.kevinrankin.com
SUMMARY:A Flock Of Seagulls:  Estes Park\, Colorado
DESCRIPTION:Stanley Hotel\nEstes Park\, CO \nhttps://www.stanleyhotel.com/calendar/a-flock-of-seagulls
URL:https://www.kevinrankin.com/event/a-flock-of-seagulls-colorado/
LOCATION:DC
CATEGORIES:LIVE SHOWS
END:VEVENT
BEGIN:VEVENT
DTSTART;VALUE=DATE:20251025
DTEND;VALUE=DATE:20251026
DTSTAMP:20260422T145836
CREATED:20250718T214603Z
LAST-MODIFIED:20250718T214603Z
UID:3534-1761350400-1761436799@www.kevinrankin.com
SUMMARY:A Flock of Seagulls: Ft. Lauderdale\, FL
DESCRIPTION:
URL:https://www.kevinrankin.com/event/a-flock-of-seagulls-ft-lauderdale-fl-4/
LOCATION:culture room\, Ft. Lauderdale\, FL\, United States
CATEGORIES:LIVE SHOWS
END:VEVENT
BEGIN:VEVENT
DTSTART;VALUE=DATE:20251024
DTEND;VALUE=DATE:20251025
DTSTAMP:20260422T145836
CREATED:20250603T194621Z
LAST-MODIFIED:20250603T194621Z
UID:3462-1761264000-1761350399@www.kevinrankin.com
SUMMARY:A Flock of Seagulls: Mt. Dora\, FL
DESCRIPTION:
URL:https://www.kevinrankin.com/event/a-flock-of-seagulls-mt-dora-fl-2-2/
LOCATION:Mt. Dora Performing Arts Center\, Mt. Dora\, FL\, Mt. Dora Performing Arts Center\, Mt. Dora\, FL
CATEGORIES:LIVE SHOWS
END:VEVENT
BEGIN:VEVENT
DTSTART;VALUE=DATE:20251023
DTEND;VALUE=DATE:20251024
DTSTAMP:20260422T145836
CREATED:20250718T214453Z
LAST-MODIFIED:20251015T232909Z
UID:3531-1761177600-1761263999@www.kevinrankin.com
SUMMARY:A Flock of Seagulls: St. Petersburg\, FL
DESCRIPTION:Ferg’s
URL:https://www.kevinrankin.com/event/a-flock-of-seagulls-st-petersburg-fl/
LOCATION:Ferg’s\, St. Petersburg\, FL
CATEGORIES:LIVE SHOWS
END:VEVENT
BEGIN:VEVENT
DTSTART;VALUE=DATE:20251010
DTEND;VALUE=DATE:20251011
DTSTAMP:20260422T145836
CREATED:20250605T035222Z
LAST-MODIFIED:20250605T035222Z
UID:3465-1760054400-1760140799@www.kevinrankin.com
SUMMARY:A Flock of Seagulls: St Louis\, MO
DESCRIPTION:With Berlin
URL:https://www.kevinrankin.com/event/a-flock-of-seagulls-st-louis-mo/
LOCATION:River City Casino\, St Louis\, Missouri
CATEGORIES:LIVE SHOWS
END:VEVENT
BEGIN:VEVENT
DTSTART;VALUE=DATE:20251003
DTEND;VALUE=DATE:20251004
DTSTAMP:20260422T145836
CREATED:20250718T213627Z
LAST-MODIFIED:20250801T045756Z
UID:3523-1759449600-1759535999@www.kevinrankin.com
SUMMARY:A Flock of Seagulls: Greenwich\, RI
DESCRIPTION:Greenwich Odeum\n59 Main Street\nEast Greenwich\, RI  02818\n401.885.4000
URL:https://www.kevinrankin.com/event/a-flock-of-seagulls-greenwich-ri/
LOCATION:DC
CATEGORIES:LIVE SHOWS
END:VEVENT
BEGIN:VEVENT
DTSTART;VALUE=DATE:20251002
DTEND;VALUE=DATE:20251003
DTSTAMP:20260422T145836
CREATED:20250801T153625Z
LAST-MODIFIED:20250813T012749Z
UID:3570-1759363200-1759449599@www.kevinrankin.com
SUMMARY:A Flock of Seagulls: Fairfield\, CT
DESCRIPTION:
URL:https://www.kevinrankin.com/event/a-flock-of-seagulls-fairfield-ct/
LOCATION:DC
CATEGORIES:LIVE SHOWS
END:VEVENT
BEGIN:VEVENT
DTSTART;VALUE=DATE:20250925
DTEND;VALUE=DATE:20250926
DTSTAMP:20260422T145836
CREATED:20250718T213514Z
LAST-MODIFIED:20250826T075257Z
UID:3517-1758758400-1758844799@www.kevinrankin.com
SUMMARY:A Flock of Seagulls: Havre de Grace\, MD
DESCRIPTION:The STAR Centre of Havre de Grace\nHavre de Grace\, MD
URL:https://www.kevinrankin.com/event/a-flock-of-seagulls-havre-de-grace-md/
LOCATION:The STAR Centre of Havre de Grace\, Havre de Grace\, MD\, United States
CATEGORIES:LIVE SHOWS
END:VEVENT
BEGIN:VEVENT
DTSTART;VALUE=DATE:20250924
DTEND;VALUE=DATE:20250925
DTSTAMP:20260422T145836
CREATED:20250620T072620Z
LAST-MODIFIED:20250620T073355Z
UID:3492-1758672000-1758758399@www.kevinrankin.com
SUMMARY:A Flock of Seagulls: Leesburg\, Virginia
DESCRIPTION:Tally Ho Theater\n20 W Market St\, Leesburg\, VA 20176-2805\, United States
URL:https://www.kevinrankin.com/event/a-flock-of-seagulls-leesburg-virginia/
LOCATION:DC
CATEGORIES:LIVE SHOWS
END:VEVENT
BEGIN:VEVENT
DTSTART;VALUE=DATE:20250906
DTEND;VALUE=DATE:20250907
DTSTAMP:20260422T145836
CREATED:20250718T213258Z
LAST-MODIFIED:20250801T050041Z
UID:3514-1757116800-1757203199@www.kevinrankin.com
SUMMARY:A Flock of Seagulls: St Cloud\, MN
DESCRIPTION:Mixtape Magic – A Flock of Seagulls\, Naked Eyes\, & Tommy Tutone\nParamount Theater\nSt Cloud\, MN
URL:https://www.kevinrankin.com/event/a-flock-of-seagulls-st-cloud-mn/
LOCATION:DC
CATEGORIES:LIVE SHOWS
END:VEVENT
BEGIN:VEVENT
DTSTART;VALUE=DATE:20250905
DTEND;VALUE=DATE:20250906
DTSTAMP:20260422T145836
CREATED:20240224T052250Z
LAST-MODIFIED:20250312T184450Z
UID:2910-1757030400-1757116799@www.kevinrankin.com
SUMMARY:A Flock of Seagulls; Tulare\, CA
DESCRIPTION:with Starship
URL:https://www.kevinrankin.com/event/a-flock-of-seagulls-tulare-ca/
LOCATION:Zumwalt Amphitheater\, Tulare\, CA\, United States
CATEGORIES:LIVE SHOWS
END:VEVENT
BEGIN:VEVENT
DTSTART;VALUE=DATE:20250831
DTEND;VALUE=DATE:20250901
DTSTAMP:20260422T145836
CREATED:20250114T204212Z
LAST-MODIFIED:20250114T204212Z
UID:3269-1756598400-1756684799@www.kevinrankin.com
SUMMARY:A Flock of Seagulls: Lost 80s Live - Lincoln\, CA
DESCRIPTION:The Venue at Thunder Valley Casino Resort\n1200 Athens Ave\,\nLincoln\, CA 95648 \nfeaturing \nA Flock of Seagulls\nGeneral Public\nThe Vapors\nBig Country\nChina Crisis\nIcicle Works\nBelouis Some\nJosie Cotton\nThe Polecats\nand Special Guest to be announced
URL:https://www.kevinrankin.com/event/a-flock-of-seagulls-lost-80s-live-lincoln-ca/
LOCATION:DC
CATEGORIES:LIVE SHOWS
ATTACH;FMTTYPE=image/png:https://www.kevinrankin.com/wp-content/uploads/2025/01/aug31-thundervalley.png
END:VEVENT
BEGIN:VEVENT
DTSTART;VALUE=DATE:20250830
DTEND;VALUE=DATE:20250831
DTSTAMP:20260422T145836
CREATED:20250211T064606Z
LAST-MODIFIED:20250211T064838Z
UID:3317-1756512000-1756598399@www.kevinrankin.com
SUMMARY:A Flock of Seagulls: Lost 80s Live - Saratoga\, CA
DESCRIPTION:Mountain Winery\nSaratoga\, CA \nfeaturing \nA Flock of Seagulls\nGeneral Public\nThe Vapors\nBig Country\nChina Crisis\nIcicle Works\nBelouis Some\nJosie Cotton\nThe Polecats\nand Special Guest to be announced
URL:https://www.kevinrankin.com/event/a-flock-of-seagulls-lost-80s-live-saratoga-ca-3/
LOCATION:Mountain Winery\, Saratoga\, California
CATEGORIES:LIVE SHOWS
END:VEVENT
BEGIN:VEVENT
DTSTART;VALUE=DATE:20250829
DTEND;VALUE=DATE:20250830
DTSTAMP:20260422T145836
CREATED:20250114T204049Z
LAST-MODIFIED:20250114T204049Z
UID:3265-1756425600-1756511999@www.kevinrankin.com
SUMMARY:A Flock of Seagulls: Lost 80s Live - Paso Robles\, CA
DESCRIPTION:Vina Robles Amphitheater\n3800 Mill Rd\,\nPaso Robles\, CA 93446 \nfeaturing \nA Flock of Seagulls\nGeneral Public\nThe Vapors\nBig Country\nChina Crisis\nIcicle Works\nBelouis Some\nJosie Cotton\nThe Polecats\nand Special Guest to be announced
URL:https://www.kevinrankin.com/event/a-flock-of-seagulls-lost-80s-live-paso-robles-ca-2/
LOCATION:DC
CATEGORIES:LIVE SHOWS
ATTACH;FMTTYPE=image/png:https://www.kevinrankin.com/wp-content/uploads/2025/01/aug29-vino-robles.png
END:VEVENT
BEGIN:VEVENT
DTSTART;VALUE=DATE:20250824
DTEND;VALUE=DATE:20250825
DTSTAMP:20260422T145836
CREATED:20250114T203911Z
LAST-MODIFIED:20250114T203911Z
UID:3261-1755993600-1756079999@www.kevinrankin.com
SUMMARY:A Flock of Seagulls: Lost 80s Live - Greek Theater\, Los Angeles\, CA
DESCRIPTION:The Greek Theatre\n2700 N Vermont Ave\nLos Angeles\, CA 90027 \nGet your 80s On with Lost 80’s Live! 23rd Anniversary Concert.\nHosted By: Richard Blade of 1st Wave on SiriusXm\nSunday August 24\, 2025 \nLost 80’s Live Invades The Greek Theatre\nfeaturing \nA Flock of Seagulls\nGeneral Public\nThe Vapors\nBig Country\nChina Crisis\nIcicle Works\nBelouis Some\nJosie Cotton\nThe Polecats\nand Special Guest to be announced
URL:https://www.kevinrankin.com/event/a-flock-of-seagulls-lost-80s-live-greek-theater-los-angeles-ca/
LOCATION:DC
CATEGORIES:LIVE SHOWS
ATTACH;FMTTYPE=image/png:https://www.kevinrankin.com/wp-content/uploads/2025/01/aug24-greektheater.png
END:VEVENT
BEGIN:VEVENT
DTSTART;VALUE=DATE:20250822
DTEND;VALUE=DATE:20250823
DTSTAMP:20260422T145836
CREATED:20250130T184102Z
LAST-MODIFIED:20250802T155800Z
UID:3293-1755820800-1755907199@www.kevinrankin.com
SUMMARY:A Flock of Seagulls: Lost 80s Live: Anaheim\, California
DESCRIPTION:Grove of Anaheim // Anaheim California\,\n2200 East Katella Avenue //\nAnaheim\, California 92806
URL:https://www.kevinrankin.com/event/a-flock-of-seagulls-lost-80s-live-anaheim-california/
LOCATION:Garden Grove of Anaheimm\, 2200 East Katella Avenue\, Anaheim\, CA\, United States
CATEGORIES:LIVE SHOWS
END:VEVENT
BEGIN:VEVENT
DTSTART;VALUE=DATE:20250821
DTEND;VALUE=DATE:20250822
DTSTAMP:20260422T145836
CREATED:20250114T203735Z
LAST-MODIFIED:20250114T203735Z
UID:3257-1755734400-1755820799@www.kevinrankin.com
SUMMARY:A Flock of Seagulls: Lost 80s Live - San Diego\, CA
DESCRIPTION:Cal Coast Credit Union Amphitheater\n5500 Campanile Dr\nSan Diego\, CA 92182 \nfeaturing \nA Flock of Seagulls\nGeneral Public\nThe Vapors\nBig Country\nChina Crisis\nIcicle Works\nBelouis Some\nJosie Cotton\nThe Polecats\nand Special Guest to be announced
URL:https://www.kevinrankin.com/event/a-flock-of-seagulls-lost-80s-live-san-diego-ca/
LOCATION:DC
CATEGORIES:LIVE SHOWS
ATTACH;FMTTYPE=image/png:https://www.kevinrankin.com/wp-content/uploads/2025/01/aug21-sandiego.png
END:VEVENT
BEGIN:VEVENT
DTSTART;VALUE=DATE:20250820
DTEND;VALUE=DATE:20250821
DTSTAMP:20260422T145836
CREATED:20250114T203624Z
LAST-MODIFIED:20250114T203624Z
UID:3253-1755648000-1755734399@www.kevinrankin.com
SUMMARY:A Flock of Seagulls: Lost 80s Live - Phoenix\, AZ
DESCRIPTION:Arizona Financial Theatre\n400 W Washington\nPhoenix\, AZ 85003 \nfeaturing \nA Flock of Seagulls\nGeneral Public\nThe Vapors\nBig Country\nChina Crisis\nIcicle Works\nBelouis Some\nJosie Cotton\nThe Polecats\nand Special Guest to be announced
URL:https://www.kevinrankin.com/event/a-flock-of-seagulls-lost-80s-live-phoenix-az/
LOCATION:DC
CATEGORIES:LIVE SHOWS
ATTACH;FMTTYPE=image/png:https://www.kevinrankin.com/wp-content/uploads/2025/01/aug20-phoenix.png
END:VEVENT
BEGIN:VEVENT
DTSTART;VALUE=DATE:20250817
DTEND;VALUE=DATE:20250818
DTSTAMP:20260422T145836
CREATED:20250114T203511Z
LAST-MODIFIED:20250114T203511Z
UID:3249-1755388800-1755475199@www.kevinrankin.com
SUMMARY:A Flock of Seagulls: Lost 80s Live - Irving\, TX
DESCRIPTION:The Pavilion at Toyota Music Factory\n300 W Las Colinas Blvd.\nIrving\, TX 75039 \nfeaturing \nA Flock of Seagulls\nGeneral Public\nThe Vapors\nBig Country\nChina Crisis\nIcicle Works\nBelouis Some\nJosie Cotton\nThe Polecats\nand Special Guest to be announced
URL:https://www.kevinrankin.com/event/a-flock-of-seagulls-lost-80s-live-irving-tx/
LOCATION:DC
CATEGORIES:LIVE SHOWS
ATTACH;FMTTYPE=image/png:https://www.kevinrankin.com/wp-content/uploads/2025/01/aug17-irving-tx.png
END:VEVENT
BEGIN:VEVENT
DTSTART;VALUE=DATE:20250814
DTEND;VALUE=DATE:20250815
DTSTAMP:20260422T145836
CREATED:20250114T203106Z
LAST-MODIFIED:20250803T175232Z
UID:3236-1755129600-1755215999@www.kevinrankin.com
SUMMARY:A Flock of Seagulls: Lost 80s Live - New Orleans\, LA
DESCRIPTION:Saenger Theatre\n1111 Canal St\,\nNew Orleans\, LA 70112 \nfeaturing \nA Flock of Seagulls\nGeneral Public\nThe Vapors\nBig Country\nChina Crisis\nIcicle Works\nBelouis Some\nJosie Cotton\nThe Polecats\nand Special Guest to be announced
URL:https://www.kevinrankin.com/event/a-flock-of-seagulls-lost-80s-live-new-orleans-la/
LOCATION:DC
CATEGORIES:LIVE SHOWS
ATTACH;FMTTYPE=image/png:https://www.kevinrankin.com/wp-content/uploads/2025/01/lost80slive_Saenger-Theatre_14aug_FINAL-1460x2048-1.png
END:VEVENT
BEGIN:VEVENT
DTSTART;VALUE=DATE:20250812
DTEND;VALUE=DATE:20250813
DTSTAMP:20260422T145836
CREATED:20250801T032324Z
LAST-MODIFIED:20250801T032324Z
UID:3561-1754956800-1755043199@www.kevinrankin.com
SUMMARY:A Flock of Seagulls: Lost 80s Live - St Petersburg\, FL
DESCRIPTION:featuring \nA Flock of Seagulls\nGeneral Public\nThe Vapors\nBig Country\nChina Crisis\nIcicle Works\nBelouis Some\nJosie Cotton\nThe Polecats\nand Special Guest to be announced
URL:https://www.kevinrankin.com/event/a-flock-of-seagulls-lost-80s-live-st-petersburg-fl/
LOCATION:DC
CATEGORIES:LIVE SHOWS
END:VEVENT
BEGIN:VEVENT
DTSTART;VALUE=DATE:20250808
DTEND;VALUE=DATE:20250809
DTSTAMP:20260422T145836
CREATED:20250211T065028Z
LAST-MODIFIED:20250718T214318Z
UID:3325-1754611200-1754697599@www.kevinrankin.com
SUMMARY:A Flock of Seagulls: Niagara Falls\, Ontario Canada
DESCRIPTION:OLG Stage Fallsview Casino\nNiagara Falls\, Ontario\, Canada \n 
URL:https://www.kevinrankin.com/event/a-flock-of-seagulls-niagara-falls-ontario-canada/
LOCATION:OLG Stage Fallsview Casino\, Niagara Falls\, Ontario\, Canada
CATEGORIES:LIVE SHOWS
END:VEVENT
BEGIN:VEVENT
DTSTART;VALUE=DATE:20250806
DTEND;VALUE=DATE:20250807
DTSTAMP:20260422T145836
CREATED:20250211T064804Z
LAST-MODIFIED:20250211T064804Z
UID:3320-1754438400-1754524799@www.kevinrankin.com
SUMMARY:A Flock of Seagulls: Lost 80s Live - Northfield\, OH
DESCRIPTION:MGM Northfield Park\nNorthfield\, Ohio \nfeaturing \nA Flock of Seagulls\nGeneral Public\nThe Vapors\nBig Country\nChina Crisis\nIcicle Works\nBelouis Some\nJosie Cotton\nThe Polecats\nand Special Guest to be announced
URL:https://www.kevinrankin.com/event/a-flock-of-seagulls-lost-80s-live-northfield-oh/
LOCATION:MGM Northfield Park\, Northfield\, OH\, United States
CATEGORIES:LIVE SHOWS
END:VEVENT
BEGIN:VEVENT
DTSTART;VALUE=DATE:20250803
DTEND;VALUE=DATE:20250804
DTSTAMP:20260422T145836
CREATED:20250114T202615Z
LAST-MODIFIED:20250114T202615Z
UID:3224-1754179200-1754265599@www.kevinrankin.com
SUMMARY:A Flock of Seagulls: Lost 80s Live - Cary\, NC
DESCRIPTION:Koka Booth Amphitheatre\n8003 Regency Pkwy Cary\, NC 27518 \nfeaturing \nA Flock of Seagulls\nGeneral Public\nThe Vapors\nBig Country\nChina Crisis\nIcicle Works\nBelouis Some\nJosie Cotton\nThe Polecats\nand Special Guest to be announced
URL:https://www.kevinrankin.com/event/a-flock-of-seagulls-lost-80s-live-cary-nc/
LOCATION:DC
CATEGORIES:LIVE SHOWS
ATTACH;FMTTYPE=image/png:https://www.kevinrankin.com/wp-content/uploads/2025/01/aug3-northcarolina.png
END:VEVENT
END:VCALENDAR