BEGIN:VCALENDAR
VERSION:2.0
PRODID:-//KEVIN RANKIN: DRUMMER | A FLOCK OF SEAGULLS - ECPv6.15.20//NONSGML v1.0//EN
CALSCALE:GREGORIAN
METHOD:PUBLISH
X-WR-CALNAME:KEVIN RANKIN: DRUMMER | A FLOCK OF SEAGULLS
X-ORIGINAL-URL:https://www.kevinrankin.com
X-WR-CALDESC:Events for KEVIN RANKIN: DRUMMER | A FLOCK OF SEAGULLS
REFRESH-INTERVAL;VALUE=DURATION:PT1H
X-Robots-Tag:noindex
X-PUBLISHED-TTL:PT1H
BEGIN:VTIMEZONE
TZID:America/Los_Angeles
BEGIN:DAYLIGHT
TZOFFSETFROM:-0800
TZOFFSETTO:-0700
TZNAME:PDT
DTSTART:20240310T100000
END:DAYLIGHT
BEGIN:STANDARD
TZOFFSETFROM:-0700
TZOFFSETTO:-0800
TZNAME:PST
DTSTART:20241103T090000
END:STANDARD
BEGIN:DAYLIGHT
TZOFFSETFROM:-0800
TZOFFSETTO:-0700
TZNAME:PDT
DTSTART:20250309T100000
END:DAYLIGHT
BEGIN:STANDARD
TZOFFSETFROM:-0700
TZOFFSETTO:-0800
TZNAME:PST
DTSTART:20251102T090000
END:STANDARD
BEGIN:DAYLIGHT
TZOFFSETFROM:-0800
TZOFFSETTO:-0700
TZNAME:PDT
DTSTART:20260308T100000
END:DAYLIGHT
BEGIN:STANDARD
TZOFFSETFROM:-0700
TZOFFSETTO:-0800
TZNAME:PST
DTSTART:20261101T090000
END:STANDARD
END:VTIMEZONE
BEGIN:VEVENT
DTSTART;VALUE=DATE:20251228
DTEND;VALUE=DATE:20251229
DTSTAMP:20260421T051733
CREATED:20250710T214827Z
LAST-MODIFIED:20251214T230403Z
UID:3504-1766880000-1766966399@www.kevinrankin.com
SUMMARY:A Flock of Seagulls: Mashantucket\, CT
DESCRIPTION:Foxwoods Casino\nMashantucket\, Connecticut \n\nA Flock of Seagulls\nMen Without Hats\nThomas Dolby\nBow Wow Wow\nTommy Tutone
URL:https://www.kevinrankin.com/event/a-flock-of-seagulls-mashantucket-ct/
LOCATION:Foxwoods Casino\, Mashantucket\, CT\, United States
CATEGORIES:LIVE SHOWS
END:VEVENT
END:VCALENDAR