BEGIN:VCALENDAR
VERSION:2.0
PRODID:-//KEVIN RANKIN: DRUMMER | A FLOCK OF SEAGULLS - ECPv6.15.20//NONSGML v1.0//EN
CALSCALE:GREGORIAN
METHOD:PUBLISH
X-WR-CALNAME:KEVIN RANKIN: DRUMMER | A FLOCK OF SEAGULLS
X-ORIGINAL-URL:https://www.kevinrankin.com
X-WR-CALDESC:Events for KEVIN RANKIN: DRUMMER | A FLOCK OF SEAGULLS
REFRESH-INTERVAL;VALUE=DURATION:PT1H
X-Robots-Tag:noindex
X-PUBLISHED-TTL:PT1H
BEGIN:VTIMEZONE
TZID:America/Los_Angeles
BEGIN:DAYLIGHT
TZOFFSETFROM:-0800
TZOFFSETTO:-0700
TZNAME:PDT
DTSTART:20220313T100000
END:DAYLIGHT
BEGIN:STANDARD
TZOFFSETFROM:-0700
TZOFFSETTO:-0800
TZNAME:PST
DTSTART:20221106T090000
END:STANDARD
BEGIN:DAYLIGHT
TZOFFSETFROM:-0800
TZOFFSETTO:-0700
TZNAME:PDT
DTSTART:20230312T100000
END:DAYLIGHT
BEGIN:STANDARD
TZOFFSETFROM:-0700
TZOFFSETTO:-0800
TZNAME:PST
DTSTART:20231105T090000
END:STANDARD
BEGIN:DAYLIGHT
TZOFFSETFROM:-0800
TZOFFSETTO:-0700
TZNAME:PDT
DTSTART:20240310T100000
END:DAYLIGHT
BEGIN:STANDARD
TZOFFSETFROM:-0700
TZOFFSETTO:-0800
TZNAME:PST
DTSTART:20241103T090000
END:STANDARD
END:VTIMEZONE
BEGIN:VEVENT
DTSTART;VALUE=DATE:20230923
DTEND;VALUE=DATE:20230924
DTSTAMP:20260425T094000
CREATED:20230816T051431Z
LAST-MODIFIED:20230816T051503Z
UID:2388-1695427200-1695513599@www.kevinrankin.com
SUMMARY:A Flock of Seagulls: Bedford\, UK
DESCRIPTION:?A Flock of Seagulls: Bedford\, UK\nBedford Esquires\n60A Bromham Rd\, Bedford MK40 2QG\, United Kingdom
URL:https://www.kevinrankin.com/event/a-flock-of-seagulls-bedford-uk/
LOCATION:DC
CATEGORIES:LIVE SHOWS
END:VEVENT
END:VCALENDAR