BEGIN:VCALENDAR
VERSION:2.0
PRODID:-//KEVIN RANKIN: DRUMMER | A FLOCK OF SEAGULLS - ECPv6.15.20//NONSGML v1.0//EN
CALSCALE:GREGORIAN
METHOD:PUBLISH
X-ORIGINAL-URL:https://www.kevinrankin.com
X-WR-CALDESC:Events for KEVIN RANKIN: DRUMMER | A FLOCK OF SEAGULLS
REFRESH-INTERVAL;VALUE=DURATION:PT1H
X-Robots-Tag:noindex
X-PUBLISHED-TTL:PT1H
BEGIN:VTIMEZONE
TZID:America/Los_Angeles
BEGIN:DAYLIGHT
TZOFFSETFROM:-0800
TZOFFSETTO:-0700
TZNAME:PDT
DTSTART:20240310T100000
END:DAYLIGHT
BEGIN:STANDARD
TZOFFSETFROM:-0700
TZOFFSETTO:-0800
TZNAME:PST
DTSTART:20241103T090000
END:STANDARD
BEGIN:DAYLIGHT
TZOFFSETFROM:-0800
TZOFFSETTO:-0700
TZNAME:PDT
DTSTART:20250309T100000
END:DAYLIGHT
BEGIN:STANDARD
TZOFFSETFROM:-0700
TZOFFSETTO:-0800
TZNAME:PST
DTSTART:20251102T090000
END:STANDARD
BEGIN:DAYLIGHT
TZOFFSETFROM:-0800
TZOFFSETTO:-0700
TZNAME:PDT
DTSTART:20260308T100000
END:DAYLIGHT
BEGIN:STANDARD
TZOFFSETFROM:-0700
TZOFFSETTO:-0800
TZNAME:PST
DTSTART:20261101T090000
END:STANDARD
END:VTIMEZONE
BEGIN:VEVENT
DTSTART;VALUE=DATE:20250105
DTEND;VALUE=DATE:20250106
DTSTAMP:20260424T073514
CREATED:20240308T232902Z
LAST-MODIFIED:20241102T010432Z
UID:2934-1736035200-1736121599@www.kevinrankin.com
SUMMARY:A Flock of Seagulls: The Villages\, FL
DESCRIPTION:
URL:https://www.kevinrankin.com/event/a-flock-of-seagulls-the-villages-fl/
LOCATION:Sharon L. Morse Performing Arts Center\, 1051 Main Street\, The Villages\, FL\, 32159\, United States
CATEGORIES:LIVE SHOWS
END:VEVENT
END:VCALENDAR