BEGIN:VCALENDAR
VERSION:2.0
PRODID:-//KEVIN RANKIN: DRUMMER | A FLOCK OF SEAGULLS - ECPv6.15.20//NONSGML v1.0//EN
CALSCALE:GREGORIAN
METHOD:PUBLISH
X-ORIGINAL-URL:https://www.kevinrankin.com
X-WR-CALDESC:Events for KEVIN RANKIN: DRUMMER | A FLOCK OF SEAGULLS
REFRESH-INTERVAL;VALUE=DURATION:PT1H
X-Robots-Tag:noindex
X-PUBLISHED-TTL:PT1H
BEGIN:VTIMEZONE
TZID:America/Los_Angeles
BEGIN:DAYLIGHT
TZOFFSETFROM:-0800
TZOFFSETTO:-0700
TZNAME:PDT
DTSTART:20230312T100000
END:DAYLIGHT
BEGIN:STANDARD
TZOFFSETFROM:-0700
TZOFFSETTO:-0800
TZNAME:PST
DTSTART:20231105T090000
END:STANDARD
BEGIN:DAYLIGHT
TZOFFSETFROM:-0800
TZOFFSETTO:-0700
TZNAME:PDT
DTSTART:20240310T100000
END:DAYLIGHT
BEGIN:STANDARD
TZOFFSETFROM:-0700
TZOFFSETTO:-0800
TZNAME:PST
DTSTART:20241103T090000
END:STANDARD
BEGIN:DAYLIGHT
TZOFFSETFROM:-0800
TZOFFSETTO:-0700
TZNAME:PDT
DTSTART:20250309T100000
END:DAYLIGHT
BEGIN:STANDARD
TZOFFSETFROM:-0700
TZOFFSETTO:-0800
TZNAME:PST
DTSTART:20251102T090000
END:STANDARD
END:VTIMEZONE
BEGIN:VEVENT
DTSTART;VALUE=DATE:20240614
DTEND;VALUE=DATE:20240616
DTSTAMP:20260424T182632
CREATED:20240113T222151Z
LAST-MODIFIED:20240224T052611Z
UID:2863-1718323200-1718495999@www.kevinrankin.com
SUMMARY:A Flock of Seagulls: Menlo Park\, CA
DESCRIPTION:
URL:https://www.kevinrankin.com/event/a-flock-of-seagulls-menlo-park-ca-3/
LOCATION:DC
CATEGORIES:LIVE SHOWS
END:VEVENT
BEGIN:VEVENT
DTSTART;VALUE=DATE:20240621
DTEND;VALUE=DATE:20240622
DTSTAMP:20260424T182632
CREATED:20240227T221117Z
LAST-MODIFIED:20240517T225928Z
UID:2923-1718928000-1719014399@www.kevinrankin.com
SUMMARY:A Flock of Seagulls: Toronto\, ON
DESCRIPTION:
URL:https://www.kevinrankin.com/event/a-flock-of-seagulls-toronto-on-4/
LOCATION:DC
CATEGORIES:LIVE SHOWS
END:VEVENT
BEGIN:VEVENT
DTSTART;VALUE=DATE:20240627
DTEND;VALUE=DATE:20240628
DTSTAMP:20260424T182632
CREATED:20240531T013418Z
LAST-MODIFIED:20240531T013418Z
UID:3093-1719446400-1719532799@www.kevinrankin.com
SUMMARY:A Flock of Seagulls: Beaver Creek\, CO
DESCRIPTION:
URL:https://www.kevinrankin.com/event/a-flock-of-seagulls-beaver-creek-co/
LOCATION:Crystal Grand Music Theatre
CATEGORIES:LIVE SHOWS
END:VEVENT
BEGIN:VEVENT
DTSTART;VALUE=DATE:20240628
DTEND;VALUE=DATE:20240629
DTSTAMP:20260424T182632
CREATED:20240112T200812Z
LAST-MODIFIED:20240112T200812Z
UID:2846-1719532800-1719619199@www.kevinrankin.com
SUMMARY:A Flock of Seagulls: Ludington\, MI
DESCRIPTION:
URL:https://www.kevinrankin.com/event/a-flock-of-seagulls-ludington-mi/
LOCATION:DC
CATEGORIES:LIVE SHOWS
END:VEVENT
BEGIN:VEVENT
DTSTART;VALUE=DATE:20240629
DTEND;VALUE=DATE:20240630
DTSTAMP:20260424T182632
CREATED:20240112T200840Z
LAST-MODIFIED:20240112T200840Z
UID:2849-1719619200-1719705599@www.kevinrankin.com
SUMMARY:A Flock of Seagulls: Paw Paw\, MI
DESCRIPTION:
URL:https://www.kevinrankin.com/event/a-flock-of-seagulls-paw-paw-mi/
LOCATION:DC
CATEGORIES:LIVE SHOWS
END:VEVENT
BEGIN:VEVENT
DTSTART;VALUE=DATE:20240630
DTEND;VALUE=DATE:20240701
DTSTAMP:20260424T182632
CREATED:20240419T182103Z
LAST-MODIFIED:20240511T190113Z
UID:3036-1719705600-1719791999@www.kevinrankin.com
SUMMARY:A Flock of Seagulls: Youngstown\, NY
DESCRIPTION:Stone Jug\nYoungstown\, NY
URL:https://www.kevinrankin.com/event/a-flock-of-seagulls-youngstown-ny/
LOCATION:DC
CATEGORIES:LIVE SHOWS
END:VEVENT
END:VCALENDAR