BEGIN:VCALENDAR
VERSION:2.0
PRODID:-//KEVIN RANKIN: DRUMMER | A FLOCK OF SEAGULLS - ECPv6.15.20//NONSGML v1.0//EN
CALSCALE:GREGORIAN
METHOD:PUBLISH
X-ORIGINAL-URL:https://www.kevinrankin.com
X-WR-CALDESC:Events for KEVIN RANKIN: DRUMMER | A FLOCK OF SEAGULLS
REFRESH-INTERVAL;VALUE=DURATION:PT1H
X-Robots-Tag:noindex
X-PUBLISHED-TTL:PT1H
BEGIN:VTIMEZONE
TZID:America/Los_Angeles
BEGIN:DAYLIGHT
TZOFFSETFROM:-0800
TZOFFSETTO:-0700
TZNAME:PDT
DTSTART:20220313T100000
END:DAYLIGHT
BEGIN:STANDARD
TZOFFSETFROM:-0700
TZOFFSETTO:-0800
TZNAME:PST
DTSTART:20221106T090000
END:STANDARD
BEGIN:DAYLIGHT
TZOFFSETFROM:-0800
TZOFFSETTO:-0700
TZNAME:PDT
DTSTART:20230312T100000
END:DAYLIGHT
BEGIN:STANDARD
TZOFFSETFROM:-0700
TZOFFSETTO:-0800
TZNAME:PST
DTSTART:20231105T090000
END:STANDARD
BEGIN:DAYLIGHT
TZOFFSETFROM:-0800
TZOFFSETTO:-0700
TZNAME:PDT
DTSTART:20240310T100000
END:DAYLIGHT
BEGIN:STANDARD
TZOFFSETFROM:-0700
TZOFFSETTO:-0800
TZNAME:PST
DTSTART:20241103T090000
END:STANDARD
END:VTIMEZONE
BEGIN:VEVENT
DTSTART;VALUE=DATE:20231104
DTEND;VALUE=DATE:20231105
DTSTAMP:20260425T052152
CREATED:20230816T052405Z
LAST-MODIFIED:20230816T052405Z
UID:2421-1699056000-1699142399@www.kevinrankin.com
SUMMARY:A Flock of Seagulls: Bremerton\, WA
DESCRIPTION:Admiral Theater\nA Flock of Seagulls: Bremerton\, WA
URL:https://www.kevinrankin.com/event/a-flock-of-seagulls-bremerton-wa/
LOCATION:DC
CATEGORIES:LIVE SHOWS
END:VEVENT
BEGIN:VEVENT
DTSTART;VALUE=DATE:20231110
DTEND;VALUE=DATE:20231111
DTSTAMP:20260425T052152
CREATED:20230816T162405Z
LAST-MODIFIED:20230816T162405Z
UID:2487-1699574400-1699660799@www.kevinrankin.com
SUMMARY:A Flock of Seagulls: Chicago\, IL
DESCRIPTION:
URL:https://www.kevinrankin.com/event/a-flock-of-seagulls-chicago-il/
LOCATION:DC
CATEGORIES:LIVE SHOWS
END:VEVENT
BEGIN:VEVENT
DTSTART;VALUE=DATE:20231110
DTEND;VALUE=DATE:20231111
DTSTAMP:20260425T052152
CREATED:20251111T042451Z
LAST-MODIFIED:20251111T042451Z
UID:3699-1699574400-1699660799@www.kevinrankin.com
SUMMARY:A FLOCK OF SEAGULLS: BERWYN\, IL
DESCRIPTION:
URL:https://www.kevinrankin.com/event/a-flock-of-seagulls-berwyn-il/
LOCATION:Distro Music Hall\, 6815 Roosevelt Rd\, Berwyn\, 60402\, United States
CATEGORIES:LIVE SHOWS
END:VEVENT
BEGIN:VEVENT
DTSTART;VALUE=DATE:20231111
DTEND;VALUE=DATE:20231112
DTSTAMP:20260425T052152
CREATED:20230816T052519Z
LAST-MODIFIED:20230816T052519Z
UID:2427-1699660800-1699747199@www.kevinrankin.com
SUMMARY:A Flock of Seagulls: Rochester\, MN
DESCRIPTION:A Flock of Seagulls: Rochester\, MN
URL:https://www.kevinrankin.com/event/a-flock-of-seagulls-rochester-mn/
LOCATION:DC
CATEGORIES:LIVE SHOWS
END:VEVENT
BEGIN:VEVENT
DTSTART;TZID=America/Los_Angeles:20231111T080000
DTEND;TZID=America/Los_Angeles:20231111T170000
DTSTAMP:20260425T052152
CREATED:20251111T042247Z
LAST-MODIFIED:20251111T042348Z
UID:3693-1699689600-1699722000@www.kevinrankin.com
SUMMARY:A FLOCK OF SEAGULLS: ROCHESTER\, MI
DESCRIPTION:
URL:https://www.kevinrankin.com/event/a-flock-of-seagulls-rochester-mi/
LOCATION:The Roxy\, 401 Walnut Blvd\, Rochester\, MI\, United States
CATEGORIES:LIVE SHOWS
END:VEVENT
BEGIN:VEVENT
DTSTART;VALUE=DATE:20231112
DTEND;VALUE=DATE:20231113
DTSTAMP:20260425T052152
CREATED:20230816T052449Z
LAST-MODIFIED:20230816T170754Z
UID:2424-1699747200-1699833599@www.kevinrankin.com
SUMMARY:A Flock of Seagulls: Riverhead\, Long Island\, NY
DESCRIPTION:A Flock of Seagulls: Riverhead\, MI\nRiverhead\, Michigan
URL:https://www.kevinrankin.com/event/a-flock-of-seagulls-riverhead-ny/
LOCATION:DC
CATEGORIES:LIVE SHOWS
END:VEVENT
BEGIN:VEVENT
DTSTART;VALUE=DATE:20231112
DTEND;VALUE=DATE:20231113
DTSTAMP:20260425T052152
CREATED:20251111T041941Z
LAST-MODIFIED:20251111T041941Z
UID:3689-1699747200-1699833599@www.kevinrankin.com
SUMMARY:A FLOCK OF SEAGULLS: RIVERHEAD\, LONG ISLAND\, NY
DESCRIPTION:
URL:https://www.kevinrankin.com/event/a-flock-of-seagulls-riverhead-long-island-ny/
LOCATION:THE SUFFOLK\, 118 E Main Street\, CT\, United States
CATEGORIES:LIVE SHOWS
END:VEVENT
BEGIN:VEVENT
DTSTART;VALUE=DATE:20231125
DTEND;VALUE=DATE:20231126
DTSTAMP:20260425T052152
CREATED:20230816T052658Z
LAST-MODIFIED:20230816T052658Z
UID:2430-1700870400-1700956799@www.kevinrankin.com
SUMMARY:A Flock of Seagulls: Manila\, Philllipines
DESCRIPTION:A Flock of Seagulls: Manila\, Philllipines
URL:https://www.kevinrankin.com/event/a-flock-of-seagulls-manila-philllipines/
LOCATION:DC
CATEGORIES:LIVE SHOWS
ATTACH;FMTTYPE=image/jpeg:https://www.kevinrankin.com/wp-content/uploads/2023/08/manila-11-25-2023.jpg
END:VEVENT
END:VCALENDAR