BEGIN:VCALENDAR
VERSION:2.0
PRODID:-//KEVIN RANKIN: DRUMMER | A FLOCK OF SEAGULLS - ECPv6.15.20//NONSGML v1.0//EN
CALSCALE:GREGORIAN
METHOD:PUBLISH
X-ORIGINAL-URL:https://www.kevinrankin.com
X-WR-CALDESC:Events for KEVIN RANKIN: DRUMMER | A FLOCK OF SEAGULLS
REFRESH-INTERVAL;VALUE=DURATION:PT1H
X-Robots-Tag:noindex
X-PUBLISHED-TTL:PT1H
BEGIN:VTIMEZONE
TZID:America/Los_Angeles
BEGIN:DAYLIGHT
TZOFFSETFROM:-0800
TZOFFSETTO:-0700
TZNAME:PDT
DTSTART:20220313T100000
END:DAYLIGHT
BEGIN:STANDARD
TZOFFSETFROM:-0700
TZOFFSETTO:-0800
TZNAME:PST
DTSTART:20221106T090000
END:STANDARD
BEGIN:DAYLIGHT
TZOFFSETFROM:-0800
TZOFFSETTO:-0700
TZNAME:PDT
DTSTART:20230312T100000
END:DAYLIGHT
BEGIN:STANDARD
TZOFFSETFROM:-0700
TZOFFSETTO:-0800
TZNAME:PST
DTSTART:20231105T090000
END:STANDARD
BEGIN:DAYLIGHT
TZOFFSETFROM:-0800
TZOFFSETTO:-0700
TZNAME:PDT
DTSTART:20240310T100000
END:DAYLIGHT
BEGIN:STANDARD
TZOFFSETFROM:-0700
TZOFFSETTO:-0800
TZNAME:PST
DTSTART:20241103T090000
END:STANDARD
END:VTIMEZONE
BEGIN:VEVENT
DTSTART;TZID=America/Los_Angeles:20230804T080000
DTEND;TZID=America/Los_Angeles:20230804T170000
DTSTAMP:20260425T093753
CREATED:20231208T040047Z
LAST-MODIFIED:20231208T040047Z
UID:2689-1691136000-1691168400@www.kevinrankin.com
SUMMARY:A Flock of Seagulls: Ft Lauderdale\, FL
DESCRIPTION:Culture Room
URL:https://www.kevinrankin.com/event/a-flock-of-seagulls-ft-lauderdale-fl-3/
LOCATION:culture room\, Ft. Lauderdale\, FL\, United States
CATEGORIES:LIVE SHOWS
END:VEVENT
BEGIN:VEVENT
DTSTART;TZID=America/Los_Angeles:20230805T080000
DTEND;TZID=America/Los_Angeles:20230805T170000
DTSTAMP:20260425T093753
CREATED:20231208T035949Z
LAST-MODIFIED:20231208T035949Z
UID:2685-1691222400-1691254800@www.kevinrankin.com
SUMMARY:A Flock of Seagulls: Orlando\, FL
DESCRIPTION:Sea World
URL:https://www.kevinrankin.com/event/a-flock-of-seagulls-orlando-fl/
LOCATION:sea world\, Orlando\, FL\, United States
CATEGORIES:LIVE SHOWS
END:VEVENT
BEGIN:VEVENT
DTSTART;TZID=America/Los_Angeles:20230819T200000
DTEND;TZID=America/Los_Angeles:20230819T220000
DTSTAMP:20260425T093753
CREATED:20230816T045935Z
LAST-MODIFIED:20230816T045935Z
UID:2336-1692475200-1692482400@www.kevinrankin.com
SUMMARY:A Flock of Seagulls: Winnipeg\, Manitoba\, Canada
DESCRIPTION:
URL:https://www.kevinrankin.com/event/a-flock-of-seagulls-winnipeg-manitoba-canada/
LOCATION:Burton Cummings Theatre\, Winnipeg\, Manitoba\, Canada
CATEGORIES:LIVE SHOWS
END:VEVENT
BEGIN:VEVENT
DTSTART;TZID=America/Los_Angeles:20230820T200000
DTEND;TZID=America/Los_Angeles:20230820T210000
DTSTAMP:20260425T093753
CREATED:20230816T050049Z
LAST-MODIFIED:20230816T050049Z
UID:2340-1692561600-1692565200@www.kevinrankin.com
SUMMARY:A Flock of Seagulls: Saskatoon\, Saskatchewan\, Canada
DESCRIPTION:
URL:https://www.kevinrankin.com/event/a-flock-of-seagulls-saskatoon-saskatchewan-canada/
LOCATION:Delta Bessborough Gardens\, Saskatoon\, Saskatchewan\, Canada
CATEGORIES:LIVE SHOWS
END:VEVENT
BEGIN:VEVENT
DTSTART;TZID=America/Los_Angeles:20230825T200000
DTEND;TZID=America/Los_Angeles:20230825T210000
DTSTAMP:20260425T093753
CREATED:20230816T050210Z
LAST-MODIFIED:20230816T050412Z
UID:2344-1692993600-1692997200@www.kevinrankin.com
SUMMARY:A Flock of Seagulls: W Fest\, Belgium
DESCRIPTION:
URL:https://www.kevinrankin.com/event/a-flock-of-seagulls-w-fest-belgium/
LOCATION:DC
CATEGORIES:LIVE SHOWS
ATTACH;FMTTYPE=image/jpeg:https://www.kevinrankin.com/wp-content/uploads/2023/08/w-fest-eventposter_1350_0908.jpg
END:VEVENT
BEGIN:VEVENT
DTSTART;TZID=America/Los_Angeles:20230828T000000
DTEND;TZID=America/Los_Angeles:20230828T000000
DTSTAMP:20260425T093753
CREATED:20230817T151940Z
LAST-MODIFIED:20230818T033343Z
UID:2498-1693180800-1693180800@www.kevinrankin.com
SUMMARY:A Flock of Seagulls: Toronto\, Ontario\, Canada
DESCRIPTION:CNE
URL:https://www.kevinrankin.com/event/a-flock-of-seagulls-toronto-ontario-canada/
LOCATION:DC
CATEGORIES:LIVE SHOWS
END:VEVENT
END:VCALENDAR