BEGIN:VCALENDAR
VERSION:2.0
PRODID:-//KEVIN RANKIN: DRUMMER | A FLOCK OF SEAGULLS - ECPv6.15.20//NONSGML v1.0//EN
CALSCALE:GREGORIAN
METHOD:PUBLISH
X-ORIGINAL-URL:https://www.kevinrankin.com
X-WR-CALDESC:Events for KEVIN RANKIN: DRUMMER | A FLOCK OF SEAGULLS
REFRESH-INTERVAL;VALUE=DURATION:PT1H
X-Robots-Tag:noindex
X-PUBLISHED-TTL:PT1H
BEGIN:VTIMEZONE
TZID:America/Los_Angeles
BEGIN:DAYLIGHT
TZOFFSETFROM:-0800
TZOFFSETTO:-0700
TZNAME:PDT
DTSTART:20220313T100000
END:DAYLIGHT
BEGIN:STANDARD
TZOFFSETFROM:-0700
TZOFFSETTO:-0800
TZNAME:PST
DTSTART:20221106T090000
END:STANDARD
BEGIN:DAYLIGHT
TZOFFSETFROM:-0800
TZOFFSETTO:-0700
TZNAME:PDT
DTSTART:20230312T100000
END:DAYLIGHT
BEGIN:STANDARD
TZOFFSETFROM:-0700
TZOFFSETTO:-0800
TZNAME:PST
DTSTART:20231105T090000
END:STANDARD
BEGIN:DAYLIGHT
TZOFFSETFROM:-0800
TZOFFSETTO:-0700
TZNAME:PDT
DTSTART:20240310T100000
END:DAYLIGHT
BEGIN:STANDARD
TZOFFSETFROM:-0700
TZOFFSETTO:-0800
TZNAME:PST
DTSTART:20241103T090000
END:STANDARD
END:VTIMEZONE
BEGIN:VEVENT
DTSTART;VALUE=DATE:20230701
DTEND;VALUE=DATE:20230702
DTSTAMP:20260425T110851
CREATED:20231208T041744Z
LAST-MODIFIED:20231208T041801Z
UID:2722-1688169600-1688255999@www.kevinrankin.com
SUMMARY:A Flock of Seagulls: Summerfest | Milwaukee\, WI
DESCRIPTION:Summerfest\nMilwaukee\, WI
URL:https://www.kevinrankin.com/event/a-flock-of-seagulls-summerfest-milwaukee-wi/
LOCATION:DC
CATEGORIES:LIVE SHOWS
END:VEVENT
BEGIN:VEVENT
DTSTART;TZID=America/Los_Angeles:20230704T193000
DTEND;TZID=America/Los_Angeles:20230704T213000
DTSTAMP:20260425T110851
CREATED:20231208T041709Z
LAST-MODIFIED:20231208T041709Z
UID:2719-1688499000-1688506200@www.kevinrankin.com
SUMMARY:A Flock of Seagulls: Beaumont\, CA
DESCRIPTION:Stewart Park\nBeaumont\, CA
URL:https://www.kevinrankin.com/event/a-flock-of-seagulls-beaumont-ca/
LOCATION:DC
CATEGORIES:LIVE SHOWS
END:VEVENT
BEGIN:VEVENT
DTSTART;VALUE=DATE:20230708
DTEND;VALUE=DATE:20230709
DTSTAMP:20260425T110851
CREATED:20231208T040705Z
LAST-MODIFIED:20231208T040705Z
UID:2715-1688774400-1688860799@www.kevinrankin.com
SUMMARY:A Flock of Seagulls: Los Angeles\, CA
DESCRIPTION:PERSHING SQUARE:\n532 S. OLIVE STREET\,\nLOS ANGELES\, CA 90013
URL:https://www.kevinrankin.com/event/a-flock-of-seagulls-los-angeles-ca/
LOCATION:Perhsing Square\, Los Angeles\, CA\, United States
CATEGORIES:LIVE SHOWS
END:VEVENT
BEGIN:VEVENT
DTSTART;VALUE=DATE:20230719
DTEND;VALUE=DATE:20230720
DTSTAMP:20260425T110851
CREATED:20231208T040619Z
LAST-MODIFIED:20231208T040619Z
UID:2711-1689724800-1689811199@www.kevinrankin.com
SUMMARY:A Flock of Seagulls: Cedar Rapids\, Iowa
DESCRIPTION:McGrath Amphitheatre\nCedar Rapids\, Iowa
URL:https://www.kevinrankin.com/event/a-flock-of-seagulls-cedar-rapids-iowa/
LOCATION:McGrath Amphitheater\, Cedar Rapids\, IA\, United States
CATEGORIES:LIVE SHOWS
END:VEVENT
BEGIN:VEVENT
DTSTART;VALUE=DATE:20230721
DTEND;VALUE=DATE:20230722
DTSTAMP:20260425T110851
CREATED:20231208T040519Z
LAST-MODIFIED:20231208T040519Z
UID:2707-1689897600-1689983999@www.kevinrankin.com
SUMMARY:A Flock of Seagulls: Kent\, Ohio
DESCRIPTION:With Annabella’s Bow Wow Wow \nKent Stage\nKent\, Ohio
URL:https://www.kevinrankin.com/event/a-flock-of-seagulls-kent-ohio/
LOCATION:Kent Stage\, Kent\, OH\, United States
CATEGORIES:LIVE SHOWS
END:VEVENT
BEGIN:VEVENT
DTSTART;VALUE=DATE:20230725
DTEND;VALUE=DATE:20230726
DTSTAMP:20260425T110851
CREATED:20231208T040325Z
LAST-MODIFIED:20231208T040325Z
UID:2701-1690243200-1690329599@www.kevinrankin.com
SUMMARY:A Flock of Seagulls: Pasa Robles\, CA
DESCRIPTION:Mid-State Fair
URL:https://www.kevinrankin.com/event/a-flock-of-seagulls-pasa-robles-ca/
LOCATION:DC
CATEGORIES:LIVE SHOWS
END:VEVENT
BEGIN:VEVENT
DTSTART;VALUE=DATE:20230725
DTEND;VALUE=DATE:20230726
DTSTAMP:20260425T110851
CREATED:20231208T040402Z
LAST-MODIFIED:20231208T040402Z
UID:2704-1690243200-1690329599@www.kevinrankin.com
SUMMARY:A Flock of Seagulls: Chicago\, IL
DESCRIPTION:A Taste of Lincoln Avenue\nChicago\, IL
URL:https://www.kevinrankin.com/event/a-flock-of-seagulls-chicago-il-2/
LOCATION:DC
CATEGORIES:LIVE SHOWS
END:VEVENT
BEGIN:VEVENT
DTSTART;TZID=America/Los_Angeles:20230728T080000
DTEND;TZID=America/Los_Angeles:20230728T170000
DTSTAMP:20260425T110851
CREATED:20231208T040239Z
LAST-MODIFIED:20231208T040239Z
UID:2697-1690531200-1690563600@www.kevinrankin.com
SUMMARY:A Flock of Seagulls: Charlotte\, NC
DESCRIPTION:The Fillmore\nCharlotte\, NC
URL:https://www.kevinrankin.com/event/a-flock-of-seagulls-charlotte-nc/
LOCATION:The Fillmore\, Charlotte\, FL\, United States
CATEGORIES:LIVE SHOWS
END:VEVENT
BEGIN:VEVENT
DTSTART;TZID=America/Los_Angeles:20230729T080000
DTEND;TZID=America/Los_Angeles:20230729T170000
DTSTAMP:20260425T110851
CREATED:20231208T040141Z
LAST-MODIFIED:20231208T040141Z
UID:2693-1690617600-1690650000@www.kevinrankin.com
SUMMARY:A Flock of Seagulls: Myrtle Beach\, SC
DESCRIPTION:House of Blues Myrtle Beach\, SC
URL:https://www.kevinrankin.com/event/a-flock-of-seagulls-myrtle-beach-sc/
LOCATION:House of Blues Anaheim\, Anaheim\, CA\, United States
CATEGORIES:LIVE SHOWS
END:VEVENT
END:VCALENDAR